BEGIN:VCALENDAR
VERSION:2.0
PRODID:-//Knox County - ECPv6.15.20//NONSGML v1.0//EN
CALSCALE:GREGORIAN
METHOD:PUBLISH
X-WR-CALNAME:Knox County
X-ORIGINAL-URL:https://knoxcountyne.gov
X-WR-CALDESC:Events for Knox County
REFRESH-INTERVAL;VALUE=DURATION:PT1H
X-Robots-Tag:noindex
X-PUBLISHED-TTL:PT1H
BEGIN:VTIMEZONE
TZID:America/Chicago
BEGIN:DAYLIGHT
TZOFFSETFROM:-0600
TZOFFSETTO:-0500
TZNAME:CDT
DTSTART:20250309T080000
END:DAYLIGHT
BEGIN:STANDARD
TZOFFSETFROM:-0500
TZOFFSETTO:-0600
TZNAME:CST
DTSTART:20251102T070000
END:STANDARD
BEGIN:DAYLIGHT
TZOFFSETFROM:-0600
TZOFFSETTO:-0500
TZNAME:CDT
DTSTART:20260308T080000
END:DAYLIGHT
BEGIN:STANDARD
TZOFFSETFROM:-0500
TZOFFSETTO:-0600
TZNAME:CST
DTSTART:20261101T070000
END:STANDARD
BEGIN:DAYLIGHT
TZOFFSETFROM:-0600
TZOFFSETTO:-0500
TZNAME:CDT
DTSTART:20270314T080000
END:DAYLIGHT
BEGIN:STANDARD
TZOFFSETFROM:-0500
TZOFFSETTO:-0600
TZNAME:CST
DTSTART:20271107T070000
END:STANDARD
END:VTIMEZONE
BEGIN:VEVENT
DTSTART;TZID=America/Chicago:20260429T093000
DTEND;TZID=America/Chicago:20260429T093000
DTSTAMP:20260422T051607
CREATED:20250825T201306Z
LAST-MODIFIED:20250825T201307Z
UID:10000357-1777455000-1777455000@knoxcountyne.gov
SUMMARY:County Board Meeting
DESCRIPTION:This is a county board meeting. An agenda can be found on the Board Meetings page.Meetings are held in the Board of Supervisors’ room at the Knox County Courthouse. Board of Supervisors meeting begins at 9:30 a.m.Board of Equalization meeting begins at 10:00 a.m.
URL:https://knoxcountyne.gov/event/county-board-meeting-2/2026-04-29/
LOCATION:Knox County Courthouse\, 206 Main Street\, Center\, NE\, 68724\, United States
CATEGORIES:County Board Meeting
END:VEVENT
BEGIN:VEVENT
DTSTART;TZID=America/Chicago:20260512T190000
DTEND;TZID=America/Chicago:20260512T190000
DTSTAMP:20260422T051607
CREATED:20260403T214505Z
LAST-MODIFIED:20260403T214507Z
UID:10000546-1778612400-1778612400@knoxcountyne.gov
SUMMARY:Planning Commission Meeting
DESCRIPTION:Meetings are held at 7:30 p.m. in the Board of Supervisors’ room at the Knox County Courthouse unless advertised for a different time. 
URL:https://knoxcountyne.gov/event/planning-commission-meeting-2-3/2026-05-12/
LOCATION:Knox County Courthouse\, 206 Main Street\, Center\, NE\, 68724\, United States
CATEGORIES:Planning Commission Meeting
END:VEVENT
BEGIN:VEVENT
DTSTART;TZID=America/Chicago:20260513T093000
DTEND;TZID=America/Chicago:20260513T093000
DTSTAMP:20260422T051607
CREATED:20250825T201306Z
LAST-MODIFIED:20250825T201307Z
UID:10000358-1778664600-1778664600@knoxcountyne.gov
SUMMARY:County Board Meeting
DESCRIPTION:This is a county board meeting. An agenda can be found on the Board Meetings page.Meetings are held in the Board of Supervisors’ room at the Knox County Courthouse. Board of Supervisors meeting begins at 9:30 a.m.Board of Equalization meeting begins at 10:00 a.m.
URL:https://knoxcountyne.gov/event/county-board-meeting-2/2026-05-13/
LOCATION:Knox County Courthouse\, 206 Main Street\, Center\, NE\, 68724\, United States
CATEGORIES:County Board Meeting
END:VEVENT
BEGIN:VEVENT
DTSTART;TZID=America/Chicago:20260525T000000
DTEND;TZID=America/Chicago:20260525T235959
DTSTAMP:20260422T051607
CREATED:20240429T202532Z
LAST-MODIFIED:20241212T170643Z
UID:10000019-1779667200-1779753599@knoxcountyne.gov
SUMMARY:Memorial Day - Closed
DESCRIPTION:All Offices Closed
URL:https://knoxcountyne.gov/event/memorial-day/2026-05-25/
CATEGORIES:Holiday
END:VEVENT
BEGIN:VEVENT
DTSTART;TZID=America/Chicago:20260527T093000
DTEND;TZID=America/Chicago:20260527T093000
DTSTAMP:20260422T051607
CREATED:20250825T201306Z
LAST-MODIFIED:20250825T201307Z
UID:10000359-1779874200-1779874200@knoxcountyne.gov
SUMMARY:County Board Meeting
DESCRIPTION:This is a county board meeting. An agenda can be found on the Board Meetings page.Meetings are held in the Board of Supervisors’ room at the Knox County Courthouse. Board of Supervisors meeting begins at 9:30 a.m.Board of Equalization meeting begins at 10:00 a.m.
URL:https://knoxcountyne.gov/event/county-board-meeting-2/2026-05-27/
LOCATION:Knox County Courthouse\, 206 Main Street\, Center\, NE\, 68724\, United States
CATEGORIES:County Board Meeting
END:VEVENT
BEGIN:VEVENT
DTSTART;TZID=America/Chicago:20260609T190000
DTEND;TZID=America/Chicago:20260609T190000
DTSTAMP:20260422T051607
CREATED:20260403T214505Z
LAST-MODIFIED:20260403T214507Z
UID:10000548-1781031600-1781031600@knoxcountyne.gov
SUMMARY:Planning Commission Meeting
DESCRIPTION:Meetings are held at 7:30 p.m. in the Board of Supervisors’ room at the Knox County Courthouse unless advertised for a different time. 
URL:https://knoxcountyne.gov/event/planning-commission-meeting-2-3/2026-06-09/
LOCATION:Knox County Courthouse\, 206 Main Street\, Center\, NE\, 68724\, United States
CATEGORIES:Planning Commission Meeting
END:VEVENT
BEGIN:VEVENT
DTSTART;TZID=America/Chicago:20260610T093000
DTEND;TZID=America/Chicago:20260610T093000
DTSTAMP:20260422T051607
CREATED:20250825T201306Z
LAST-MODIFIED:20250825T201307Z
UID:10000360-1781083800-1781083800@knoxcountyne.gov
SUMMARY:County Board Meeting
DESCRIPTION:This is a county board meeting. An agenda can be found on the Board Meetings page.Meetings are held in the Board of Supervisors’ room at the Knox County Courthouse. Board of Supervisors meeting begins at 9:30 a.m.Board of Equalization meeting begins at 10:00 a.m.
URL:https://knoxcountyne.gov/event/county-board-meeting-2/2026-06-10/
LOCATION:Knox County Courthouse\, 206 Main Street\, Center\, NE\, 68724\, United States
CATEGORIES:County Board Meeting
END:VEVENT
BEGIN:VEVENT
DTSTART;TZID=America/Chicago:20260624T093000
DTEND;TZID=America/Chicago:20260624T093000
DTSTAMP:20260422T051607
CREATED:20250825T201306Z
LAST-MODIFIED:20250825T201307Z
UID:10000361-1782293400-1782293400@knoxcountyne.gov
SUMMARY:County Board Meeting
DESCRIPTION:This is a county board meeting. An agenda can be found on the Board Meetings page.Meetings are held in the Board of Supervisors’ room at the Knox County Courthouse. Board of Supervisors meeting begins at 9:30 a.m.Board of Equalization meeting begins at 10:00 a.m.
URL:https://knoxcountyne.gov/event/county-board-meeting-2/2026-06-24/
LOCATION:Knox County Courthouse\, 206 Main Street\, Center\, NE\, 68724\, United States
CATEGORIES:County Board Meeting
END:VEVENT
BEGIN:VEVENT
DTSTART;TZID=America/Chicago:20260704T000000
DTEND;TZID=America/Chicago:20260704T235959
DTSTAMP:20260422T051607
CREATED:20240429T211349Z
LAST-MODIFIED:20241212T170636Z
UID:10000289-1783123200-1783209599@knoxcountyne.gov
SUMMARY:Independence Day - Closed
DESCRIPTION:All Offices Closed
URL:https://knoxcountyne.gov/event/independence-day/2026-07-04/
CATEGORIES:Holiday
END:VEVENT
BEGIN:VEVENT
DTSTART;TZID=America/Chicago:20260708T093000
DTEND;TZID=America/Chicago:20260708T093000
DTSTAMP:20260422T051607
CREATED:20250825T201306Z
LAST-MODIFIED:20250825T201307Z
UID:10000362-1783503000-1783503000@knoxcountyne.gov
SUMMARY:County Board Meeting
DESCRIPTION:This is a county board meeting. An agenda can be found on the Board Meetings page.Meetings are held in the Board of Supervisors’ room at the Knox County Courthouse. Board of Supervisors meeting begins at 9:30 a.m.Board of Equalization meeting begins at 10:00 a.m.
URL:https://knoxcountyne.gov/event/county-board-meeting-2/2026-07-08/
LOCATION:Knox County Courthouse\, 206 Main Street\, Center\, NE\, 68724\, United States
CATEGORIES:County Board Meeting
END:VEVENT
BEGIN:VEVENT
DTSTART;TZID=America/Chicago:20260714T190000
DTEND;TZID=America/Chicago:20260714T190000
DTSTAMP:20260422T051607
CREATED:20260403T214505Z
LAST-MODIFIED:20260403T214507Z
UID:10000549-1784055600-1784055600@knoxcountyne.gov
SUMMARY:Planning Commission Meeting
DESCRIPTION:Meetings are held at 7:30 p.m. in the Board of Supervisors’ room at the Knox County Courthouse unless advertised for a different time. 
URL:https://knoxcountyne.gov/event/planning-commission-meeting-2-3/2026-07-14/
LOCATION:Knox County Courthouse\, 206 Main Street\, Center\, NE\, 68724\, United States
CATEGORIES:Planning Commission Meeting
END:VEVENT
BEGIN:VEVENT
DTSTART;TZID=America/Chicago:20260722T093000
DTEND;TZID=America/Chicago:20260722T093000
DTSTAMP:20260422T051607
CREATED:20250825T201306Z
LAST-MODIFIED:20250825T201307Z
UID:10000363-1784712600-1784712600@knoxcountyne.gov
SUMMARY:County Board Meeting
DESCRIPTION:This is a county board meeting. An agenda can be found on the Board Meetings page.Meetings are held in the Board of Supervisors’ room at the Knox County Courthouse. Board of Supervisors meeting begins at 9:30 a.m.Board of Equalization meeting begins at 10:00 a.m.
URL:https://knoxcountyne.gov/event/county-board-meeting-2/2026-07-22/
LOCATION:Knox County Courthouse\, 206 Main Street\, Center\, NE\, 68724\, United States
CATEGORIES:County Board Meeting
END:VEVENT
BEGIN:VEVENT
DTSTART;TZID=America/Chicago:20260805T093000
DTEND;TZID=America/Chicago:20260805T093000
DTSTAMP:20260422T051607
CREATED:20250825T201306Z
LAST-MODIFIED:20250825T201307Z
UID:10000364-1785922200-1785922200@knoxcountyne.gov
SUMMARY:County Board Meeting
DESCRIPTION:This is a county board meeting. An agenda can be found on the Board Meetings page.Meetings are held in the Board of Supervisors’ room at the Knox County Courthouse. Board of Supervisors meeting begins at 9:30 a.m.Board of Equalization meeting begins at 10:00 a.m.
URL:https://knoxcountyne.gov/event/county-board-meeting-2/2026-08-05/
LOCATION:Knox County Courthouse\, 206 Main Street\, Center\, NE\, 68724\, United States
CATEGORIES:County Board Meeting
END:VEVENT
BEGIN:VEVENT
DTSTART;TZID=America/Chicago:20260811T190000
DTEND;TZID=America/Chicago:20260811T190000
DTSTAMP:20260422T051607
CREATED:20260403T214505Z
LAST-MODIFIED:20260403T214507Z
UID:10000550-1786474800-1786474800@knoxcountyne.gov
SUMMARY:Planning Commission Meeting
DESCRIPTION:Meetings are held at 7:30 p.m. in the Board of Supervisors’ room at the Knox County Courthouse unless advertised for a different time. 
URL:https://knoxcountyne.gov/event/planning-commission-meeting-2-3/2026-08-11/
LOCATION:Knox County Courthouse\, 206 Main Street\, Center\, NE\, 68724\, United States
CATEGORIES:Planning Commission Meeting
END:VEVENT
BEGIN:VEVENT
DTSTART;TZID=America/Chicago:20260819T093000
DTEND;TZID=America/Chicago:20260819T093000
DTSTAMP:20260422T051607
CREATED:20250825T201306Z
LAST-MODIFIED:20250825T201307Z
UID:10000365-1787131800-1787131800@knoxcountyne.gov
SUMMARY:County Board Meeting
DESCRIPTION:This is a county board meeting. An agenda can be found on the Board Meetings page.Meetings are held in the Board of Supervisors’ room at the Knox County Courthouse. Board of Supervisors meeting begins at 9:30 a.m.Board of Equalization meeting begins at 10:00 a.m.
URL:https://knoxcountyne.gov/event/county-board-meeting-2/2026-08-19/
LOCATION:Knox County Courthouse\, 206 Main Street\, Center\, NE\, 68724\, United States
CATEGORIES:County Board Meeting
END:VEVENT
BEGIN:VEVENT
DTSTART;TZID=America/Chicago:20260902T093000
DTEND;TZID=America/Chicago:20260902T093000
DTSTAMP:20260422T051607
CREATED:20250825T201306Z
LAST-MODIFIED:20250825T201307Z
UID:10000366-1788341400-1788341400@knoxcountyne.gov
SUMMARY:County Board Meeting
DESCRIPTION:This is a county board meeting. An agenda can be found on the Board Meetings page.Meetings are held in the Board of Supervisors’ room at the Knox County Courthouse. Board of Supervisors meeting begins at 9:30 a.m.Board of Equalization meeting begins at 10:00 a.m.
URL:https://knoxcountyne.gov/event/county-board-meeting-2/2026-09-02/
LOCATION:Knox County Courthouse\, 206 Main Street\, Center\, NE\, 68724\, United States
CATEGORIES:County Board Meeting
END:VEVENT
BEGIN:VEVENT
DTSTART;VALUE=DATE:20260907
DTEND;VALUE=DATE:20260908
DTSTAMP:20260422T051607
CREATED:20240726T143020Z
LAST-MODIFIED:20241212T171106Z
UID:10000329-1788739200-1788825599@knoxcountyne.gov
SUMMARY:Labor Day - Closed
DESCRIPTION:All Offices Closed
URL:https://knoxcountyne.gov/event/labor-day/2026-09-07/
CATEGORIES:Holiday
END:VEVENT
BEGIN:VEVENT
DTSTART;TZID=America/Chicago:20260908T190000
DTEND;TZID=America/Chicago:20260908T190000
DTSTAMP:20260422T051607
CREATED:20260403T214505Z
LAST-MODIFIED:20260403T214507Z
UID:10000551-1788894000-1788894000@knoxcountyne.gov
SUMMARY:Planning Commission Meeting
DESCRIPTION:Meetings are held at 7:30 p.m. in the Board of Supervisors’ room at the Knox County Courthouse unless advertised for a different time. 
URL:https://knoxcountyne.gov/event/planning-commission-meeting-2-3/2026-09-08/
LOCATION:Knox County Courthouse\, 206 Main Street\, Center\, NE\, 68724\, United States
CATEGORIES:Planning Commission Meeting
END:VEVENT
BEGIN:VEVENT
DTSTART;TZID=America/Chicago:20260916T093000
DTEND;TZID=America/Chicago:20260916T093000
DTSTAMP:20260422T051607
CREATED:20250825T201306Z
LAST-MODIFIED:20250825T201307Z
UID:10000367-1789551000-1789551000@knoxcountyne.gov
SUMMARY:County Board Meeting
DESCRIPTION:This is a county board meeting. An agenda can be found on the Board Meetings page.Meetings are held in the Board of Supervisors’ room at the Knox County Courthouse. Board of Supervisors meeting begins at 9:30 a.m.Board of Equalization meeting begins at 10:00 a.m.
URL:https://knoxcountyne.gov/event/county-board-meeting-2/2026-09-16/
LOCATION:Knox County Courthouse\, 206 Main Street\, Center\, NE\, 68724\, United States
CATEGORIES:County Board Meeting
END:VEVENT
BEGIN:VEVENT
DTSTART;TZID=America/Chicago:20260930T093000
DTEND;TZID=America/Chicago:20260930T093000
DTSTAMP:20260422T051607
CREATED:20250825T201306Z
LAST-MODIFIED:20250825T201307Z
UID:10000368-1790760600-1790760600@knoxcountyne.gov
SUMMARY:County Board Meeting
DESCRIPTION:This is a county board meeting. An agenda can be found on the Board Meetings page.Meetings are held in the Board of Supervisors’ room at the Knox County Courthouse. Board of Supervisors meeting begins at 9:30 a.m.Board of Equalization meeting begins at 10:00 a.m.
URL:https://knoxcountyne.gov/event/county-board-meeting-2/2026-09-30/
LOCATION:Knox County Courthouse\, 206 Main Street\, Center\, NE\, 68724\, United States
CATEGORIES:County Board Meeting
END:VEVENT
BEGIN:VEVENT
DTSTART;TZID=America/Chicago:20261012T000000
DTEND;TZID=America/Chicago:20261012T235959
DTSTAMP:20260422T051607
CREATED:20240429T211622Z
LAST-MODIFIED:20250825T205639Z
UID:10000285-1791763200-1791849599@knoxcountyne.gov
SUMMARY:Columbus Day / Indigenous Persons' Day - Closed
DESCRIPTION:All Offices Closed
URL:https://knoxcountyne.gov/event/columbus-day/2026-10-12/
CATEGORIES:Holiday
END:VEVENT
BEGIN:VEVENT
DTSTART;TZID=America/Chicago:20261013T190000
DTEND;TZID=America/Chicago:20261013T190000
DTSTAMP:20260422T051607
CREATED:20260403T214505Z
LAST-MODIFIED:20260403T214507Z
UID:10000552-1791918000-1791918000@knoxcountyne.gov
SUMMARY:Planning Commission Meeting
DESCRIPTION:Meetings are held at 7:30 p.m. in the Board of Supervisors’ room at the Knox County Courthouse unless advertised for a different time. 
URL:https://knoxcountyne.gov/event/planning-commission-meeting-2-3/2026-10-13/
LOCATION:Knox County Courthouse\, 206 Main Street\, Center\, NE\, 68724\, United States
CATEGORIES:Planning Commission Meeting
END:VEVENT
BEGIN:VEVENT
DTSTART;TZID=America/Chicago:20261014T093000
DTEND;TZID=America/Chicago:20261014T093000
DTSTAMP:20260422T051607
CREATED:20250825T201306Z
LAST-MODIFIED:20250825T201307Z
UID:10000369-1791970200-1791970200@knoxcountyne.gov
SUMMARY:County Board Meeting
DESCRIPTION:This is a county board meeting. An agenda can be found on the Board Meetings page.Meetings are held in the Board of Supervisors’ room at the Knox County Courthouse. Board of Supervisors meeting begins at 9:30 a.m.Board of Equalization meeting begins at 10:00 a.m.
URL:https://knoxcountyne.gov/event/county-board-meeting-2/2026-10-14/
LOCATION:Knox County Courthouse\, 206 Main Street\, Center\, NE\, 68724\, United States
CATEGORIES:County Board Meeting
END:VEVENT
BEGIN:VEVENT
DTSTART;TZID=America/Chicago:20261028T093000
DTEND;TZID=America/Chicago:20261028T093000
DTSTAMP:20260422T051607
CREATED:20250825T201306Z
LAST-MODIFIED:20250825T201307Z
UID:10000370-1793179800-1793179800@knoxcountyne.gov
SUMMARY:County Board Meeting
DESCRIPTION:This is a county board meeting. An agenda can be found on the Board Meetings page.Meetings are held in the Board of Supervisors’ room at the Knox County Courthouse. Board of Supervisors meeting begins at 9:30 a.m.Board of Equalization meeting begins at 10:00 a.m.
URL:https://knoxcountyne.gov/event/county-board-meeting-2/2026-10-28/
LOCATION:Knox County Courthouse\, 206 Main Street\, Center\, NE\, 68724\, United States
CATEGORIES:County Board Meeting
END:VEVENT
BEGIN:VEVENT
DTSTART;TZID=America/Chicago:20261110T190000
DTEND;TZID=America/Chicago:20261110T190000
DTSTAMP:20260422T051607
CREATED:20260403T214505Z
LAST-MODIFIED:20260403T214507Z
UID:10000553-1794337200-1794337200@knoxcountyne.gov
SUMMARY:Planning Commission Meeting
DESCRIPTION:Meetings are held at 7:30 p.m. in the Board of Supervisors’ room at the Knox County Courthouse unless advertised for a different time. 
URL:https://knoxcountyne.gov/event/planning-commission-meeting-2-3/2026-11-10/
LOCATION:Knox County Courthouse\, 206 Main Street\, Center\, NE\, 68724\, United States
CATEGORIES:Planning Commission Meeting
END:VEVENT
BEGIN:VEVENT
DTSTART;TZID=America/Chicago:20261111T000000
DTEND;TZID=America/Chicago:20261111T235959
DTSTAMP:20260422T051607
CREATED:20240429T211701Z
LAST-MODIFIED:20241212T170626Z
UID:10000281-1794355200-1794441599@knoxcountyne.gov
SUMMARY:Veteran's Day - Closed
DESCRIPTION:All Offices Closed
URL:https://knoxcountyne.gov/event/veterans-day/2026-11-11/
CATEGORIES:Holiday
END:VEVENT
BEGIN:VEVENT
DTSTART;TZID=America/Chicago:20261111T093000
DTEND;TZID=America/Chicago:20261111T093000
DTSTAMP:20260422T051607
CREATED:20250825T201306Z
LAST-MODIFIED:20250825T201307Z
UID:10000371-1794389400-1794389400@knoxcountyne.gov
SUMMARY:County Board Meeting
DESCRIPTION:This is a county board meeting. An agenda can be found on the Board Meetings page.Meetings are held in the Board of Supervisors’ room at the Knox County Courthouse. Board of Supervisors meeting begins at 9:30 a.m.Board of Equalization meeting begins at 10:00 a.m.
URL:https://knoxcountyne.gov/event/county-board-meeting-2/2026-11-11/
LOCATION:Knox County Courthouse\, 206 Main Street\, Center\, NE\, 68724\, United States
CATEGORIES:County Board Meeting
END:VEVENT
BEGIN:VEVENT
DTSTART;TZID=America/Chicago:20261125T093000
DTEND;TZID=America/Chicago:20261125T093000
DTSTAMP:20260422T051607
CREATED:20250825T201306Z
LAST-MODIFIED:20250825T201307Z
UID:10000372-1795599000-1795599000@knoxcountyne.gov
SUMMARY:County Board Meeting
DESCRIPTION:This is a county board meeting. An agenda can be found on the Board Meetings page.Meetings are held in the Board of Supervisors’ room at the Knox County Courthouse. Board of Supervisors meeting begins at 9:30 a.m.Board of Equalization meeting begins at 10:00 a.m.
URL:https://knoxcountyne.gov/event/county-board-meeting-2/2026-11-25/
LOCATION:Knox County Courthouse\, 206 Main Street\, Center\, NE\, 68724\, United States
CATEGORIES:County Board Meeting
END:VEVENT
BEGIN:VEVENT
DTSTART;TZID=America/Chicago:20261208T190000
DTEND;TZID=America/Chicago:20261208T190000
DTSTAMP:20260422T051607
CREATED:20260403T214505Z
LAST-MODIFIED:20260403T214507Z
UID:10000554-1796756400-1796756400@knoxcountyne.gov
SUMMARY:Planning Commission Meeting
DESCRIPTION:Meetings are held at 7:30 p.m. in the Board of Supervisors’ room at the Knox County Courthouse unless advertised for a different time. 
URL:https://knoxcountyne.gov/event/planning-commission-meeting-2-3/2026-12-08/
LOCATION:Knox County Courthouse\, 206 Main Street\, Center\, NE\, 68724\, United States
CATEGORIES:Planning Commission Meeting
END:VEVENT
BEGIN:VEVENT
DTSTART;TZID=America/Chicago:20261209T093000
DTEND;TZID=America/Chicago:20261209T093000
DTSTAMP:20260422T051607
CREATED:20250825T201306Z
LAST-MODIFIED:20250825T201307Z
UID:10000373-1796808600-1796808600@knoxcountyne.gov
SUMMARY:County Board Meeting
DESCRIPTION:This is a county board meeting. An agenda can be found on the Board Meetings page.Meetings are held in the Board of Supervisors’ room at the Knox County Courthouse. Board of Supervisors meeting begins at 9:30 a.m.Board of Equalization meeting begins at 10:00 a.m.
URL:https://knoxcountyne.gov/event/county-board-meeting-2/2026-12-09/
LOCATION:Knox County Courthouse\, 206 Main Street\, Center\, NE\, 68724\, United States
CATEGORIES:County Board Meeting
END:VEVENT
END:VCALENDAR